BEGIN:VCALENDAR
VERSION:2.0
PRODID:-//M Hassan Ilyas - ECPv6.15.14//NONSGML v1.0//EN
CALSCALE:GREGORIAN
METHOD:PUBLISH
X-ORIGINAL-URL:https://hasanilyas.com
X-WR-CALDESC:Events for M Hassan Ilyas
REFRESH-INTERVAL;VALUE=DURATION:PT1H
X-Robots-Tag:noindex
X-PUBLISHED-TTL:PT1H
BEGIN:VTIMEZONE
TZID:UTC
BEGIN:STANDARD
TZOFFSETFROM:+0000
TZOFFSETTO:+0000
TZNAME:UTC
DTSTART:20250101T000000
END:STANDARD
END:VTIMEZONE
BEGIN:VEVENT
DTSTART;VALUE=DATE:20260226
DTEND;VALUE=DATE:20260227
DTSTAMP:20260421T214032
CREATED:20260226T093329Z
LAST-MODIFIED:20260226T093329Z
UID:23189-1772064000-1772150399@hasanilyas.com
SUMMARY:Doha\, Qatar
DESCRIPTION:
URL:https://hasanilyas.com/event/doha-qatar/
CATEGORIES:Qatar
ATTACH;FMTTYPE=image/jpeg:https://hasanilyas.com/wp-content/uploads/2026/02/641334337_10162322505123730_2019040680469388338_n.jpg
END:VEVENT
BEGIN:VEVENT
DTSTART;VALUE=DATE:20260328
DTEND;VALUE=DATE:20260329
DTSTAMP:20260421T214032
CREATED:20260329T170853Z
LAST-MODIFIED:20260329T170949Z
UID:23214-1774656000-1774742399@hasanilyas.com
SUMMARY:Ghamidi Center of Islamic Learning\, USA
DESCRIPTION:The book launch ceremony of Dr. Mustafa Akyol’s book “No Compulsion in Religion: Without Exceptions” was held at the Ghamidi Center of Islamic Learning.
URL:https://hasanilyas.com/event/ghamidi-center-of-islamic-learning-usa/
CATEGORIES:USA
ATTACH;FMTTYPE=image/jpeg:https://hasanilyas.com/wp-content/uploads/2026/03/656074313_10162467524203730_6626878180278069391_n.jpg
END:VEVENT
BEGIN:VEVENT
DTSTART;VALUE=DATE:20260329
DTEND;VALUE=DATE:20260330
DTSTAMP:20260421T214032
CREATED:20260329T170452Z
LAST-MODIFIED:20260329T170505Z
UID:23211-1774742400-1774828799@hasanilyas.com
SUMMARY:Baylor University\, USA
DESCRIPTION:
URL:https://hasanilyas.com/event/baylor-university-usa/
CATEGORIES:USA
ATTACH;FMTTYPE=image/jpeg:https://hasanilyas.com/wp-content/uploads/2026/03/657732843_10162468904283730_6084393720737497023_n.jpg
END:VEVENT
BEGIN:VEVENT
DTSTART;VALUE=DATE:20260414
DTEND;VALUE=DATE:20260415
DTSTAMP:20260421T214032
CREATED:20260415T122311Z
LAST-MODIFIED:20260415T122527Z
UID:23233-1776124800-1776211199@hasanilyas.com
SUMMARY:United Nations\, New York\, USA
DESCRIPTION:
URL:https://hasanilyas.com/event/united-nations-new-york-usa/
CATEGORIES:USA
ATTACH;FMTTYPE=image/jpeg:https://hasanilyas.com/wp-content/uploads/2026/04/671484345_10162530485793730_2352808192860697721_n.jpg
END:VEVENT
END:VCALENDAR