BEGIN:VCALENDAR
VERSION:2.0
PRODID:-//M Hassan Ilyas - ECPv6.15.14//NONSGML v1.0//EN
CALSCALE:GREGORIAN
METHOD:PUBLISH
X-WR-CALNAME:M Hassan Ilyas
X-ORIGINAL-URL:https://hasanilyas.com
X-WR-CALDESC:Events for M Hassan Ilyas
REFRESH-INTERVAL;VALUE=DURATION:PT1H
X-Robots-Tag:noindex
X-PUBLISHED-TTL:PT1H
BEGIN:VTIMEZONE
TZID:UTC
BEGIN:STANDARD
TZOFFSETFROM:+0000
TZOFFSETTO:+0000
TZNAME:UTC
DTSTART:20200101T000000
END:STANDARD
END:VTIMEZONE
BEGIN:VEVENT
DTSTART;VALUE=DATE:20241028
DTEND;VALUE=DATE:20241029
DTSTAMP:20260420T031132
CREATED:20241201T173334Z
LAST-MODIFIED:20251107T173202Z
UID:21425-1730073600-1730159999@hasanilyas.com
SUMMARY:Lahore\, Pk
DESCRIPTION:
URL:https://hasanilyas.com/event/lahore-pk-3/
CATEGORIES:Pakistan
ATTACH;FMTTYPE=image/jpeg:https://hasanilyas.com/wp-content/uploads/2024/12/464782499_956362849861256_898178105043544322_n.jpg
END:VEVENT
BEGIN:VEVENT
DTSTART;VALUE=DATE:20241023
DTEND;VALUE=DATE:20241024
DTSTAMP:20260420T031132
CREATED:20241202T081417Z
LAST-MODIFIED:20251107T173205Z
UID:21695-1729641600-1729727999@hasanilyas.com
SUMMARY:Al Mawrid Canada
DESCRIPTION:
URL:https://hasanilyas.com/event/al-mawrid-canada-2/
CATEGORIES:Canada
ATTACH;FMTTYPE=image/jpeg:https://hasanilyas.com/wp-content/uploads/2024/12/73065105_10156586870468730_8204765841904893952_n.jpg
END:VEVENT
BEGIN:VEVENT
DTSTART;VALUE=DATE:20241022
DTEND;VALUE=DATE:20241023
DTSTAMP:20260420T031132
CREATED:20241201T173137Z
LAST-MODIFIED:20241215T065615Z
UID:21408-1729555200-1729641599@hasanilyas.com
SUMMARY:Punjab Assembly Lahore\, Pk
DESCRIPTION:
URL:https://hasanilyas.com/event/punjab-assembly-lahore-pk/
CATEGORIES:Pakistan
ATTACH;FMTTYPE=image/jpeg:https://hasanilyas.com/wp-content/uploads/2024/12/464270731_10160301705228730_7591697223757384332_n.jpg
END:VEVENT
BEGIN:VEVENT
DTSTART;VALUE=DATE:20241022
DTEND;VALUE=DATE:20241023
DTSTAMP:20260420T031132
CREATED:20241201T172439Z
LAST-MODIFIED:20241215T065955Z
UID:21389-1729555200-1729641599@hasanilyas.com
SUMMARY:Lahore\, Pk
DESCRIPTION:
URL:https://hasanilyas.com/event/lahore-pk-2/
CATEGORIES:Pakistan
ATTACH;FMTTYPE=image/jpeg:https://hasanilyas.com/wp-content/uploads/2024/12/464392889_952556116908596_850848673051253485_n.jpg
END:VEVENT
BEGIN:VEVENT
DTSTART;VALUE=DATE:20241018
DTEND;VALUE=DATE:20241019
DTSTAMP:20260420T031132
CREATED:20250605T073501Z
LAST-MODIFIED:20250605T073544Z
UID:22651-1729209600-1729295999@hasanilyas.com
SUMMARY:Al Mawrid\, Lahore\, Pk
DESCRIPTION:
URL:https://hasanilyas.com/event/al-mawrid-lahore-pk/
CATEGORIES:Pakistan
ATTACH;FMTTYPE=image/jpeg:https://hasanilyas.com/wp-content/uploads/2025/06/463778458_10160296080878730_1112998941591452820_n.jpg
END:VEVENT
BEGIN:VEVENT
DTSTART;VALUE=DATE:20241010
DTEND;VALUE=DATE:20241011
DTSTAMP:20260420T031132
CREATED:20241201T171459Z
LAST-MODIFIED:20241215T070012Z
UID:21385-1728518400-1728604799@hasanilyas.com
SUMMARY:GCIL\, Dallas\, Texas USA
DESCRIPTION:
URL:https://hasanilyas.com/event/gcil-dallas-texas-usa/
CATEGORIES:USA
ATTACH;FMTTYPE=image/jpeg:https://hasanilyas.com/wp-content/uploads/2024/12/462370979_10160273675188730_1989459688030977397_n.jpg
END:VEVENT
BEGIN:VEVENT
DTSTART;VALUE=DATE:20240805
DTEND;VALUE=DATE:20240806
DTSTAMP:20260420T031132
CREATED:20241201T170950Z
LAST-MODIFIED:20241215T070027Z
UID:21374-1722816000-1722902399@hasanilyas.com
SUMMARY:Scotland\, UK
DESCRIPTION:
URL:https://hasanilyas.com/event/lahore-pk/
CATEGORIES:UK
ATTACH;FMTTYPE=image/jpeg:https://hasanilyas.com/wp-content/uploads/2024/12/454040127_10160075690943730_7552728512171141514_n.jpg
END:VEVENT
BEGIN:VEVENT
DTSTART;VALUE=DATE:20240305
DTEND;VALUE=DATE:20240306
DTSTAMP:20260420T031132
CREATED:20241130T175845Z
LAST-MODIFIED:20241215T070047Z
UID:21362-1709596800-1709683199@hasanilyas.com
SUMMARY:London\, United Kingdom
DESCRIPTION:
URL:https://hasanilyas.com/event/london-united-kingdom/
CATEGORIES:UK
ATTACH;FMTTYPE=image/jpeg:https://hasanilyas.com/wp-content/uploads/2024/11/432187136_10159814208383730_1640080051777831730_n.jpg
END:VEVENT
BEGIN:VEVENT
DTSTART;VALUE=DATE:20231201
DTEND;VALUE=DATE:20231202
DTSTAMP:20260420T031132
CREATED:20231202T174646Z
LAST-MODIFIED:20241215T070215Z
UID:21468-1701388800-1701475199@hasanilyas.com
SUMMARY:GCIL\, Dallas\, Texas\, USA
DESCRIPTION:
URL:https://hasanilyas.com/event/gcil-dallas-texas-usa-2/
CATEGORIES:USA
ATTACH;FMTTYPE=image/jpeg:https://hasanilyas.com/wp-content/uploads/2024/12/406667802_737079645122912_7241435052505696308_n.jpg
END:VEVENT
BEGIN:VEVENT
DTSTART;VALUE=DATE:20231126
DTEND;VALUE=DATE:20231127
DTSTAMP:20260420T031132
CREATED:20241201T174522Z
LAST-MODIFIED:20241215T070225Z
UID:21456-1700956800-1701043199@hasanilyas.com
SUMMARY:Lahore\, Pk
DESCRIPTION:
URL:https://hasanilyas.com/event/lahore-pk-4/
CATEGORIES:Pakistan
ATTACH;FMTTYPE=image/jpeg:https://hasanilyas.com/wp-content/uploads/2024/12/403632561_732980362199507_5487467680360221968_n.jpg
END:VEVENT
BEGIN:VEVENT
DTSTART;VALUE=DATE:20231020
DTEND;VALUE=DATE:20231021
DTSTAMP:20260420T031132
CREATED:20231201T174156Z
LAST-MODIFIED:20241215T070240Z
UID:21451-1697760000-1697846399@hasanilyas.com
SUMMARY:Sydney\, Australia
DESCRIPTION:
URL:https://hasanilyas.com/event/sydney-australia/
CATEGORIES:Australia
ATTACH;FMTTYPE=image/jpeg:https://hasanilyas.com/wp-content/uploads/2024/12/391594417_10159611007918730_2831026220133244125_n.jpg
END:VEVENT
BEGIN:VEVENT
DTSTART;VALUE=DATE:20230919
DTEND;VALUE=DATE:20230920
DTSTAMP:20260420T031132
CREATED:20231201T174031Z
LAST-MODIFIED:20241215T070306Z
UID:21433-1695081600-1695167999@hasanilyas.com
SUMMARY:Islamabad\, Pk
DESCRIPTION:
URL:https://hasanilyas.com/event/islamabad-pk/
CATEGORIES:Pakistan
ATTACH;FMTTYPE=image/jpeg:https://hasanilyas.com/wp-content/uploads/2024/12/378469594_693385892825621_7486318479920036791_n.jpg
END:VEVENT
BEGIN:VEVENT
DTSTART;VALUE=DATE:20221206
DTEND;VALUE=DATE:20221207
DTSTAMP:20260420T031132
CREATED:20241202T074640Z
LAST-MODIFIED:20241215T070319Z
UID:21617-1670284800-1670371199@hasanilyas.com
SUMMARY:Lahore\, Pk
DESCRIPTION:
URL:https://hasanilyas.com/event/lahore-pk-6/
CATEGORIES:Pakistan
ATTACH;FMTTYPE=image/jpeg:https://hasanilyas.com/wp-content/uploads/2024/12/244434426_10158271469938730_2336929805266990114_n.jpg
END:VEVENT
BEGIN:VEVENT
DTSTART;VALUE=DATE:20221111
DTEND;VALUE=DATE:20221112
DTSTAMP:20260420T031132
CREATED:20241201T183653Z
LAST-MODIFIED:20241215T071817Z
UID:21590-1668124800-1668211199@hasanilyas.com
SUMMARY:Dubai\, UAE
DESCRIPTION:
URL:https://hasanilyas.com/event/dubai-uae/
CATEGORIES:Middle East
ATTACH;FMTTYPE=image/jpeg:https://hasanilyas.com/wp-content/uploads/2024/12/319148878_1123026851701841_2590563638791041664_n.jpg
END:VEVENT
BEGIN:VEVENT
DTSTART;VALUE=DATE:20221010
DTEND;VALUE=DATE:20221011
DTSTAMP:20260420T031132
CREATED:20241201T183551Z
LAST-MODIFIED:20241215T070515Z
UID:21583-1665360000-1665446399@hasanilyas.com
SUMMARY:Lahore\, Pk
DESCRIPTION:
URL:https://hasanilyas.com/event/lahore-pk-5/
CATEGORIES:Pakistan
ATTACH;FMTTYPE=image/jpeg:https://hasanilyas.com/wp-content/uploads/2024/12/312572416_10158887641143730_285289910806282628_n.jpg
END:VEVENT
BEGIN:VEVENT
DTSTART;VALUE=DATE:20221006
DTEND;VALUE=DATE:20221007
DTSTAMP:20260420T031132
CREATED:20241201T183405Z
LAST-MODIFIED:20241215T070607Z
UID:21571-1665014400-1665100799@hasanilyas.com
SUMMARY:Sydney\, NSW\, Australia
DESCRIPTION:
URL:https://hasanilyas.com/event/sydney-nsw-australia/
CATEGORIES:Australia
ATTACH;FMTTYPE=image/jpeg:https://hasanilyas.com/wp-content/uploads/2024/12/310810951_10158841265078730_1359438597468676980_n.jpg
END:VEVENT
BEGIN:VEVENT
DTSTART;VALUE=DATE:20221003
DTEND;VALUE=DATE:20221004
DTSTAMP:20260420T031132
CREATED:20241201T183029Z
LAST-MODIFIED:20241215T070654Z
UID:21566-1664755200-1664841599@hasanilyas.com
SUMMARY:Canberra\, Australia
DESCRIPTION:
URL:https://hasanilyas.com/event/canberra-australia/
CATEGORIES:Australia
ATTACH;FMTTYPE=image/jpeg:https://hasanilyas.com/wp-content/uploads/2024/12/309312689_10158836186173730_1492854285508158063_n.jpg
END:VEVENT
BEGIN:VEVENT
DTSTART;VALUE=DATE:20220909
DTEND;VALUE=DATE:20220910
DTSTAMP:20260420T031132
CREATED:20241201T182013Z
LAST-MODIFIED:20241215T070705Z
UID:21559-1662681600-1662767999@hasanilyas.com
SUMMARY:Brisbane\, Australia
DESCRIPTION:
URL:https://hasanilyas.com/event/brisbane-australia/
CATEGORIES:Australia
ATTACH;FMTTYPE=image/jpeg:https://hasanilyas.com/wp-content/uploads/2024/12/308634753_10158830210303730_4349080643358907171_n.jpg
END:VEVENT
BEGIN:VEVENT
DTSTART;VALUE=DATE:20220523
DTEND;VALUE=DATE:20220524
DTSTAMP:20260420T031132
CREATED:20241201T181753Z
LAST-MODIFIED:20241215T070720Z
UID:21554-1653264000-1653350399@hasanilyas.com
SUMMARY:Karachi\, Pk
DESCRIPTION:
URL:https://hasanilyas.com/event/karachi-pk-2/
CATEGORIES:Pakistan
ATTACH;FMTTYPE=image/jpeg:https://hasanilyas.com/wp-content/uploads/2024/12/281279627_10158637454463730_5734343121830120689_n.jpg
END:VEVENT
BEGIN:VEVENT
DTSTART;VALUE=DATE:20220514
DTEND;VALUE=DATE:20220515
DTSTAMP:20260420T031132
CREATED:20241201T181625Z
LAST-MODIFIED:20241215T070922Z
UID:21549-1652486400-1652572799@hasanilyas.com
SUMMARY:Bahrain
DESCRIPTION:
URL:https://hasanilyas.com/event/bahrain/
CATEGORIES:Middle East
ATTACH;FMTTYPE=image/jpeg:https://hasanilyas.com/wp-content/uploads/2024/12/280833313_10158618302478730_4740578413856328382_n.jpg
END:VEVENT
BEGIN:VEVENT
DTSTART;VALUE=DATE:20220508
DTEND;VALUE=DATE:20220509
DTSTAMP:20260420T031132
CREATED:20241201T181530Z
LAST-MODIFIED:20241215T070945Z
UID:21541-1651968000-1652054399@hasanilyas.com
SUMMARY:London\, UK
DESCRIPTION:
URL:https://hasanilyas.com/event/london-uk-2/
CATEGORIES:UK
ATTACH;FMTTYPE=image/jpeg:https://hasanilyas.com/wp-content/uploads/2024/12/279920451_10158608952118730_8979012190152429215_n.jpg
END:VEVENT
BEGIN:VEVENT
DTSTART;VALUE=DATE:20220508
DTEND;VALUE=DATE:20220509
DTSTAMP:20260420T031132
CREATED:20241201T181128Z
LAST-MODIFIED:20241215T071926Z
UID:21530-1651968000-1652054399@hasanilyas.com
SUMMARY:London\, UK
DESCRIPTION:
URL:https://hasanilyas.com/event/london-uk/
CATEGORIES:UK
ATTACH;FMTTYPE=image/jpeg:https://hasanilyas.com/wp-content/uploads/2024/12/279907117_10158608138198730_9006839097595222447_n.jpg
END:VEVENT
BEGIN:VEVENT
DTSTART;VALUE=DATE:20220507
DTEND;VALUE=DATE:20220508
DTSTAMP:20260420T031132
CREATED:20241201T180800Z
LAST-MODIFIED:20241215T071933Z
UID:21506-1651881600-1651967999@hasanilyas.com
SUMMARY:Birmingham\, UK
DESCRIPTION:
URL:https://hasanilyas.com/event/birmingham-uk/
CATEGORIES:UK
ATTACH;FMTTYPE=image/jpeg:https://hasanilyas.com/wp-content/uploads/2024/12/279751549_10158605665033730_2039004003124018367_n.jpg
END:VEVENT
BEGIN:VEVENT
DTSTART;VALUE=DATE:20220403
DTEND;VALUE=DATE:20220404
DTSTAMP:20260420T031132
CREATED:20241201T180225Z
LAST-MODIFIED:20241215T073235Z
UID:21493-1648944000-1649030399@hasanilyas.com
SUMMARY:GCIL\, Dallas\, Texas\, USA
DESCRIPTION:
URL:https://hasanilyas.com/event/gcil-dallas-texas-usa-3/
CATEGORIES:USA
ATTACH;FMTTYPE=image/jpeg:https://hasanilyas.com/wp-content/uploads/2024/12/277590599_1620085611688308_2019577282607036633_n-2.jpg
END:VEVENT
BEGIN:VEVENT
DTSTART;VALUE=DATE:20220303
DTEND;VALUE=DATE:20220304
DTSTAMP:20260420T031132
CREATED:20241201T180044Z
LAST-MODIFIED:20241215T071943Z
UID:21490-1646265600-1646351999@hasanilyas.com
SUMMARY:Darul Uloom Naeemia\, Karachi\, Pk
DESCRIPTION:
URL:https://hasanilyas.com/event/darul-uloom-naeemia-karachi-pk/
CATEGORIES:Pakistan
ATTACH;FMTTYPE=image/jpeg:https://hasanilyas.com/wp-content/uploads/2024/12/274988197_10158507651773730_9038895284695041597_n.jpg
END:VEVENT
BEGIN:VEVENT
DTSTART;VALUE=DATE:20220224
DTEND;VALUE=DATE:20220225
DTSTAMP:20260420T031132
CREATED:20241201T175413Z
LAST-MODIFIED:20241215T071953Z
UID:21474-1645660800-1645747199@hasanilyas.com
SUMMARY:Headquarter of Sindh Rangers\, Sindh\, Pk
DESCRIPTION:
URL:https://hasanilyas.com/event/headquarter-of-sindh-rangers-sindh-pk/
CATEGORIES:Pakistan
ATTACH;FMTTYPE=image/jpeg:https://hasanilyas.com/wp-content/uploads/2024/12/274518534_10158496173548730_7288626533849991581_n.jpg
END:VEVENT
BEGIN:VEVENT
DTSTART;VALUE=DATE:20220202
DTEND;VALUE=DATE:20220203
DTSTAMP:20260420T031132
CREATED:20241201T175902Z
LAST-MODIFIED:20241215T072001Z
UID:21477-1643760000-1643846399@hasanilyas.com
SUMMARY:Karachi\, Pk
DESCRIPTION:
URL:https://hasanilyas.com/event/karachi-pk/
CATEGORIES:Pakistan
ATTACH;FMTTYPE=image/jpeg:https://hasanilyas.com/wp-content/uploads/2024/12/274749995_10158498681453730_2818825146715919851_n.jpg
END:VEVENT
BEGIN:VEVENT
DTSTART;VALUE=DATE:20211021
DTEND;VALUE=DATE:20211022
DTSTAMP:20260420T031132
CREATED:20241202T075207Z
LAST-MODIFIED:20241215T072008Z
UID:21627-1634774400-1634860799@hasanilyas.com
SUMMARY:Lahore\, Pk
DESCRIPTION:
URL:https://hasanilyas.com/event/lahore-pk-7/
CATEGORIES:Pakistan
ATTACH;FMTTYPE=image/jpeg:https://hasanilyas.com/wp-content/uploads/2024/12/244686545_10158274807888730_1706892302316627818_n.jpg
END:VEVENT
BEGIN:VEVENT
DTSTART;VALUE=DATE:20211006
DTEND;VALUE=DATE:20211007
DTSTAMP:20260420T031132
CREATED:20241202T074438Z
LAST-MODIFIED:20241215T072015Z
UID:21612-1633478400-1633564799@hasanilyas.com
SUMMARY:Jehlum\, Pk
DESCRIPTION:
URL:https://hasanilyas.com/event/jehlum-pk/
CATEGORIES:Pakistan
ATTACH;FMTTYPE=image/jpeg:https://hasanilyas.com/wp-content/uploads/2024/12/244440891_10158271424978730_3854011960417320699_n.jpg
END:VEVENT
BEGIN:VEVENT
DTSTART;VALUE=DATE:20211005
DTEND;VALUE=DATE:20211006
DTSTAMP:20260420T031132
CREATED:20241202T074326Z
LAST-MODIFIED:20241215T072022Z
UID:21607-1633392000-1633478399@hasanilyas.com
SUMMARY:Islamabad\, Pk
DESCRIPTION:
URL:https://hasanilyas.com/event/islamabad-pk-3/
CATEGORIES:Pakistan
ATTACH;FMTTYPE=image/jpeg:https://hasanilyas.com/wp-content/uploads/2024/12/244370622_10158269908398730_6326860165359291906_n.jpg
END:VEVENT
END:VCALENDAR